BEGIN:VCALENDAR
VERSION:2.0
PRODID:-//sharedjourneyscollective.org//NONSGML kigkonsult.se iCalcreator 2
 .30.10//
CALSCALE:GREGORIAN
METHOD:PUBLISH
UID:927bbce4-a1a4-4983-83bd-34e227fb9573
X-WR-CALDESC:Open conversation\, no set topic.  A relaxed space to show up\
 , talk\, and connect with others who get it. \n\nSchedule: 1st\, 3rd\, 4th
  (and 5th) Thursdays of every month. Please note\, no calls: July 2\, Nove
 mber 26\, December 24\, December 31 \n\nFor first/birthmothers/birthgivers
 .
X-WR-RELCALID:58029d5f0820a58ddb54cc1bc8a839c6
X-WR-TIMEZONE:America/Chicago
BEGIN:VTIMEZONE
TZID:America/Chicago
BEGIN:STANDARD
TZNAME:CST
DTSTART:20251102T020000
TZOFFSETFROM:-0500
TZOFFSETTO:-0600
RDATE:20261101T020000
END:STANDARD
BEGIN:DAYLIGHT
TZNAME:CDT
DTSTART:20260308T020000
TZOFFSETFROM:-0600
TZOFFSETTO:-0500
RDATE:20270314T020000
END:DAYLIGHT
END:VTIMEZONE
BEGIN:VEVENT
UID:be6491a8-0a2e-4af5-82b5-49db88258d75
DTSTAMP:20260419T121220Z
DESCRIPTION:Open conversation\, no set topic.  A relaxed space to show up\,
  talk\, and connect with others who get it. \n\nSchedule: 1st\, 3rd\, 4th 
 (and 5th) Thursdays of every month. Please note\, no calls: July 2\, Novem
 ber 26\, December 24\, December 31 \n\nFor first/birthmothers/birthgivers.
DTSTART;TZID=America/Chicago:20260423T200000
DTEND;TZID=America/Chicago:20260423T210000
LOCATION:https://sharedjourneyscollective.org/programs/
SUMMARY:Connect Call Share & Connect
END:VEVENT
END:VCALENDAR
