BEGIN:VCALENDAR
VERSION:2.0
PRODID:-//sharedjourneyscollective.org//NONSGML kigkonsult.se iCalcreator 2
 .30.10//
CALSCALE:GREGORIAN
METHOD:PUBLISH
UID:95c57a00-d319-48e6-8fc9-7fe231b95af1
X-WR-CALDESC:Open conversation\, no set topic.  A relaxed space to show up\
 , talk\, and connect with others who get it. \n\nSchedule: 1st\, 3rd\, 4th
  (and 5th) Thursdays of every month. Please note\, no calls: July 2\, Nove
 mber 26\, December 24\, December 31 \n\nFor first/birthmothers/birthgivers
 .
X-WR-RELCALID:5619076059e8ff2879591d9c10e1bbab
X-WR-TIMEZONE:America/Chicago
BEGIN:VTIMEZONE
TZID:America/Chicago
BEGIN:STANDARD
TZNAME:CST
DTSTART:20251102T020000
TZOFFSETFROM:-0500
TZOFFSETTO:-0600
RDATE:20261101T020000
END:STANDARD
BEGIN:DAYLIGHT
TZNAME:CDT
DTSTART:20260308T020000
TZOFFSETFROM:-0600
TZOFFSETTO:-0500
RDATE:20270314T020000
END:DAYLIGHT
END:VTIMEZONE
BEGIN:VEVENT
UID:b5bf1d7e-d639-4243-aaef-8b58c32f6cd9
DTSTAMP:20260424T095512Z
DESCRIPTION:Open conversation\, no set topic.  A relaxed space to show up\,
  talk\, and connect with others who get it. \n\nSchedule: 1st\, 3rd\, 4th 
 (and 5th) Thursdays of every month. Please note\, no calls: July 2\, Novem
 ber 26\, December 24\, December 31 \n\nFor first/birthmothers/birthgivers.
DTSTART;TZID=America/Chicago:20260430T200000
DTEND;TZID=America/Chicago:20260430T210000
LOCATION:https://sharedjourneyscollective.org/programs/
SUMMARY:Connect Call Share & Connect
END:VEVENT
END:VCALENDAR
