BEGIN:VCALENDAR
VERSION:2.0
PRODID:-//sharedjourneyscollective.org//NONSGML kigkonsult.se iCalcreator 2
 .30.10//
CALSCALE:GREGORIAN
METHOD:PUBLISH
UID:d87317f0-4b4c-419b-a788-8ca982952bf9
X-WR-CALDESC:Join us for our Birthmother’s Day Gathering - Honoring Our Roo
 ts\, Finding Restoration – and surround yourself with a community that sha
 res this journey with you.
X-WR-RELCALID:3708d2d979c20981b4710813ba0bf08e
X-WR-TIMEZONE:America/Chicago
BEGIN:VTIMEZONE
TZID:America/Chicago
BEGIN:STANDARD
TZNAME:CST
DTSTART:20251102T020000
TZOFFSETFROM:-0500
TZOFFSETTO:-0600
RDATE:20261101T020000
RDATE:20271107T020000
END:STANDARD
BEGIN:DAYLIGHT
TZNAME:CDT
DTSTART:20260308T020000
TZOFFSETFROM:-0600
TZOFFSETTO:-0500
RDATE:20270314T020000
END:DAYLIGHT
END:VTIMEZONE
BEGIN:VEVENT
UID:887946b9-1011-4422-9439-071d361d71b1
DTSTAMP:20260420T005553Z
DESCRIPTION:Join us for our Birthmother’s Day Gathering - Honoring Our Root
 s\, Finding Restoration – and surround yourself with a community that shar
 es this journey with you.
DTSTART;TZID=America/Chicago:20260509T120000
DTEND;TZID=America/Chicago:20260509T130000
LOCATION:https://us02web.zoom.us/meeting/register/AEm_7F_ST9mFPay6o6jBzA#/r
 egistration
SUMMARY:Birthmother's Day Gathering
END:VEVENT
END:VCALENDAR
