BEGIN:VCALENDAR
VERSION:2.0
PRODID:-//sharedjourneyscollective.org//NONSGML kigkonsult.se iCalcreator 2
 .30.10//
CALSCALE:GREGORIAN
METHOD:PUBLISH
UID:80c9fb09-3f88-4ee0-9379-89ad1bb1aab1
X-WR-CALDESC:Connect Call Monthly Focus: Staff-led with a monthly discussio
 n topic - June's discussion topic is ' Restoration: Strengthening Your Voi
 ce\,' and we share discussion materials with participants in advance so th
 at you can share your thoughts and experiences.  Come ready to connect and
  share! Registration is required in advance. For all first parents/birthpa
 rents
X-WR-RELCALID:b6300ca7858137c6fbd6d9529581003b
X-WR-TIMEZONE:America/Chicago
BEGIN:VTIMEZONE
TZID:America/Chicago
BEGIN:STANDARD
TZNAME:CST
DTSTART:20251102T020000
TZOFFSETFROM:-0500
TZOFFSETTO:-0600
RDATE:20261101T020000
RDATE:20271107T020000
END:STANDARD
BEGIN:DAYLIGHT
TZNAME:CDT
DTSTART:20260308T020000
TZOFFSETFROM:-0600
TZOFFSETTO:-0500
RDATE:20270314T020000
END:DAYLIGHT
END:VTIMEZONE
BEGIN:VEVENT
UID:53b25585-df2c-40ba-8da2-318da6c047ae
DTSTAMP:20260424T100141Z
DESCRIPTION:Connect Call Monthly Focus: Staff-led with a monthly discussion
  topic - June's discussion topic is ' Restoration: Strengthening Your Voic
 e\,' and we share discussion materials with participants in advance so tha
 t you can share your thoughts and experiences.  Come ready to connect and 
 share! Registration is required in advance. For all first parents/birthpar
 ents
DTSTART;TZID=America/Chicago:20260623T120000
DTEND;TZID=America/Chicago:20260623T130000
LOCATION:https://sharedjourneyscollective.org/programs/
SUMMARY:Tuesday Connect Call :: Monthly Focus
END:VEVENT
END:VCALENDAR
